BEGIN:VCALENDAR
VERSION:2.0
PRODID:-//wp-events-plugin.com//7.2.3.1//EN
TZID:Europe/Berlin
X-WR-TIMEZONE:Europe/Berlin
BEGIN:VEVENT
UID:245@sv-grosshabersdorf.de
DTSTART;TZID=Europe/Berlin:20261128T170000
DTEND;TZID=Europe/Berlin:20261128T230000
DTSTAMP:20260201T102411Z
URL:https://www.sv-grosshabersdorf.de/veranstaltungen/tischtennis-weihnach
 tsfeier-2026/
SUMMARY:Tischtennis Weihnachtsfeier 2026
DESCRIPTION:
ATTACH;FMTTYPE=image/jpeg:https://www.sv-grosshabersdorf.de/wp-content/upl
 oads/2021/06/Tischtennis-Logo.jpg
CATEGORIES:Sport,Tischtennis
END:VEVENT
BEGIN:VTIMEZONE
TZID:Europe/Berlin
X-LIC-LOCATION:Europe/Berlin
BEGIN:STANDARD
DTSTART:20261025T020000
TZOFFSETFROM:+0200
TZOFFSETTO:+0100
TZNAME:CET
END:STANDARD
END:VTIMEZONE
END:VCALENDAR