BEGIN:VCALENDAR
VERSION:2.0
PRODID:-//wp-events-plugin.com//7.2.3.1//EN
TZID:Europe/Berlin
X-WR-TIMEZONE:Europe/Berlin
BEGIN:VEVENT
UID:243@sv-grosshabersdorf.de
DTSTART;TZID=Europe/Berlin:20260425T150000
DTEND;TZID=Europe/Berlin:20260425T210000
DTSTAMP:20260201T102315Z
URL:https://www.sv-grosshabersdorf.de/veranstaltungen/tischtennis-vereinsm
 eisterschaft-2026/
SUMMARY:Tischtennis Vereinsmeisterschaft 2026
DESCRIPTION:
ATTACH;FMTTYPE=image/jpeg:https://www.sv-grosshabersdorf.de/wp-content/upl
 oads/2021/06/Tischtennis-Logo.jpg
CATEGORIES:Sport,Tischtennis,Turnier
LOCATION:Schulgelände - Turnhalle\, Sonnenblick 2\, Großhabersdorf\, Baye
 rn\, 90613\, Landkreis Fürth\, Deutschland
GEO:49.407359;10.786432
X-APPLE-STRUCTURED-LOCATION;VALUE=URI;X-ADDRESS=Sonnenblick 2\, Großhabers
 dorf\, Bayern\, 90613\, Landkreis Fürth\, Deutschland;X-APPLE-RADIUS=100;
 X-TITLE=Schulgelände - Turnhalle:geo:49.407359,10.786432
END:VEVENT
BEGIN:VTIMEZONE
TZID:Europe/Berlin
X-LIC-LOCATION:Europe/Berlin
BEGIN:DAYLIGHT
DTSTART:20260329T030000
TZOFFSETFROM:+0100
TZOFFSETTO:+0200
TZNAME:CEST
END:DAYLIGHT
END:VTIMEZONE
END:VCALENDAR